BEGIN:VCALENDAR
VERSION:2.0
PRODID:-//pretix//Movinn_Forward_Tickets//
BEGIN:VTIMEZONE
TZID:Europe/Berlin
BEGIN:STANDARD
DTSTART:20001029T040000
RRULE:FREQ=YEARLY;BYDAY=-1SU;BYMONTH=10
TZNAME:CET
TZOFFSETFROM:+0200
TZOFFSETTO:+0100
END:STANDARD
BEGIN:DAYLIGHT
DTSTART:20000326T030000
RRULE:FREQ=YEARLY;BYDAY=-1SU;BYMONTH=3
TZNAME:CEST
TZOFFSETFROM:+0100
TZOFFSETTO:+0200
END:DAYLIGHT
END:VTIMEZONE
BEGIN:VEVENT
UID:pretix-bow-f7fbv-0@tickets.movinn-forward.de
DTSTART;TZID=Europe/Berlin:20260606T150000
DTEND;TZID=Europe/Berlin:20260606T160000
DESCRIPTION:Tickets: https://tickets.movinn-forward.de/bow/f7fbv/\nOrganize
 r: Bums on Wheels
DTSTAMP:20260420T084005Z
LOCATION:Skatepark Wasserburg am Inn\, Alkorstr. 14 83512 Wasserburg am Inn
SUMMARY:Bums on Wheels Punk Day
END:VEVENT
BEGIN:VEVENT
UID:pretix-bow-Bow26-0@tickets.movinn-forward.de
DTSTART;TZID=Europe/Berlin:20260717T130000
DTEND;TZID=Europe/Berlin:20260717T140000
DESCRIPTION:Tickets: https://tickets.movinn-forward.de/bow/Bow26/\nAdmissio
 n: 2026-07-17 13:00\nOrganizer: Bums on Wheels
DTSTAMP:20260420T084005Z
LOCATION:Skatepark Wasserburg am Inn\, Alkorstr. 14 83512 Wasserburg am Inn
SUMMARY:Bums on Wheels 2026
END:VEVENT
END:VCALENDAR
